BEGIN:VCALENDAR
VERSION:2.0
PRODID:-//FUJIFILM Healthcare Americas Corporation - ECPv6.15.17.1//NONSGML v1.0//EN
CALSCALE:GREGORIAN
METHOD:PUBLISH
X-ORIGINAL-URL:https://healthcaresolutions-us.fujifilm.com
X-WR-CALDESC:Events for FUJIFILM Healthcare Americas Corporation
REFRESH-INTERVAL;VALUE=DURATION:PT1H
X-Robots-Tag:noindex
X-PUBLISHED-TTL:PT1H
BEGIN:VTIMEZONE
TZID:America/Halifax
BEGIN:DAYLIGHT
TZOFFSETFROM:-0400
TZOFFSETTO:-0300
TZNAME:ADT
DTSTART:20250309T060000
END:DAYLIGHT
BEGIN:STANDARD
TZOFFSETFROM:-0300
TZOFFSETTO:-0400
TZNAME:AST
DTSTART:20251102T050000
END:STANDARD
BEGIN:DAYLIGHT
TZOFFSETFROM:-0400
TZOFFSETTO:-0300
TZNAME:ADT
DTSTART:20260308T060000
END:DAYLIGHT
BEGIN:STANDARD
TZOFFSETFROM:-0300
TZOFFSETTO:-0400
TZNAME:AST
DTSTART:20261101T050000
END:STANDARD
BEGIN:DAYLIGHT
TZOFFSETFROM:-0400
TZOFFSETTO:-0300
TZNAME:ADT
DTSTART:20270314T060000
END:DAYLIGHT
BEGIN:STANDARD
TZOFFSETFROM:-0300
TZOFFSETTO:-0400
TZNAME:AST
DTSTART:20271107T050000
END:STANDARD
END:VTIMEZONE
BEGIN:VEVENT
DTSTART;VALUE=DATE:20260130
DTEND;VALUE=DATE:20260202
DTSTAMP:20260419T142446
CREATED:20251204T133141Z
LAST-MODIFIED:20251204T135129Z
UID:10000242-1769731200-1769990399@healthcaresolutions-us.fujifilm.com
SUMMARY:Texas Association of Neurological Surgeons
DESCRIPTION:The Texas Association of Neurological Surgeons (TANS) Annual Conference 2026 will take place from January 30th – February 1st\, at the Houston Four Seasons. The event includes general sessions\, a coding course\, and an APP (Advanced Practice Provider) course\, as well as receptions and an optional Past Presidents Dinner on January 29. 
URL:https://healthcaresolutions-us.fujifilm.com/event/tans2026/
LOCATION:Four Seasons\, Houston\, TX
ATTACH;FMTTYPE=image/png:https://healthcaresolutions-us.fujifilm.com/wp-content/uploads/2025/12/TANS-25.png
END:VEVENT
END:VCALENDAR