BEGIN:VCALENDAR
VERSION:2.0
PRODID:-//FUJIFILM Healthcare Americas Corporation - ECPv6.15.20//NONSGML v1.0//EN
CALSCALE:GREGORIAN
METHOD:PUBLISH
X-WR-CALNAME:FUJIFILM Healthcare Americas Corporation
X-ORIGINAL-URL:https://healthcaresolutions-us.fujifilm.com
X-WR-CALDESC:Events for FUJIFILM Healthcare Americas Corporation
REFRESH-INTERVAL;VALUE=DURATION:PT1H
X-Robots-Tag:noindex
X-PUBLISHED-TTL:PT1H
BEGIN:VTIMEZONE
TZID:America/New_York
BEGIN:DAYLIGHT
TZOFFSETFROM:-0500
TZOFFSETTO:-0400
TZNAME:EDT
DTSTART:20250309T070000
END:DAYLIGHT
BEGIN:STANDARD
TZOFFSETFROM:-0400
TZOFFSETTO:-0500
TZNAME:EST
DTSTART:20251102T060000
END:STANDARD
BEGIN:DAYLIGHT
TZOFFSETFROM:-0500
TZOFFSETTO:-0400
TZNAME:EDT
DTSTART:20260308T070000
END:DAYLIGHT
BEGIN:STANDARD
TZOFFSETFROM:-0400
TZOFFSETTO:-0500
TZNAME:EST
DTSTART:20261101T060000
END:STANDARD
BEGIN:DAYLIGHT
TZOFFSETFROM:-0500
TZOFFSETTO:-0400
TZNAME:EDT
DTSTART:20270314T070000
END:DAYLIGHT
BEGIN:STANDARD
TZOFFSETFROM:-0400
TZOFFSETTO:-0500
TZNAME:EST
DTSTART:20271107T060000
END:STANDARD
END:VTIMEZONE
BEGIN:VEVENT
DTSTART;VALUE=DATE:20260309
DTEND;VALUE=DATE:20260313
DTSTAMP:20260421T051526
CREATED:20260122T194537Z
LAST-MODIFIED:20260204T182947Z
UID:10000262-1773014400-1773359999@healthcaresolutions-us.fujifilm.com
SUMMARY:Healthcare Information and Management Systems Society (HIMSS)
DESCRIPTION:Visit HIMSS booth #1617 to see how our unified Synapse Enterprise Imaging system provides optimal user experiences for clinical IT teams across healthcare enterprises and outpatient imaging centers. \nLearn more
URL:https://healthcaresolutions-us.fujifilm.com/event/himss-2026/
LOCATION:Venetian Convention & Expo Center\, 201 Sands Ave\, Las Vegas\, NV\, 89169\, United States
ATTACH;FMTTYPE=image/jpeg:https://healthcaresolutions-us.fujifilm.com/wp-content/uploads/2026/01/HIMSS26-logo.jpg
GEO:36.1215699;-115.1651093
X-APPLE-STRUCTURED-LOCATION;VALUE=URI;X-ADDRESS=Venetian Convention & Expo Center 201 Sands Ave Las Vegas NV 89169 United States;X-APPLE-RADIUS=500;X-TITLE=201 Sands Ave:geo:-115.1651093,36.1215699
END:VEVENT
BEGIN:VEVENT
DTSTART;VALUE=DATE:20260323
DTEND;VALUE=DATE:20260327
DTSTAMP:20260421T051526
CREATED:20260202T193802Z
LAST-MODIFIED:20260202T193802Z
UID:10000264-1774224000-1774569599@healthcaresolutions-us.fujifilm.com
SUMMARY:USCAP 2026 Annual Meeting
DESCRIPTION:Visit booth #649 at the 2026 United States and Canadian Academy of Pathology (USCAP) annual meeting to see our award-winning\, vendor-agnostic pathology PACS solution.
URL:https://healthcaresolutions-us.fujifilm.com/event/uscap-2026/
LOCATION:Henry B. González Convention Center\, 900 E. Market Street\, San Antonio\, TX\, 78205\, United States
ATTACH;FMTTYPE=image/jpeg:https://healthcaresolutions-us.fujifilm.com/wp-content/uploads/2026/02/USCAP-2026-logo3.jpg
GEO:29.4209235;-98.4859615
X-APPLE-STRUCTURED-LOCATION;VALUE=URI;X-ADDRESS=Henry B. González Convention Center 900 E. Market Street San Antonio TX 78205 United States;X-APPLE-RADIUS=500;X-TITLE=900 E. Market Street:geo:-98.4859615,29.4209235
END:VEVENT
END:VCALENDAR